BEGIN:VCALENDAR
VERSION:2.0
PRODID:-//Brattleboro Memorial Hospital - ECPv6.15.20//NONSGML v1.0//EN
CALSCALE:GREGORIAN
METHOD:PUBLISH
X-WR-CALNAME:Brattleboro Memorial Hospital
X-ORIGINAL-URL:https://www.bmhvt.org
X-WR-CALDESC:Events for Brattleboro Memorial Hospital
REFRESH-INTERVAL;VALUE=DURATION:PT1H
X-Robots-Tag:noindex
X-PUBLISHED-TTL:PT1H
BEGIN:VTIMEZONE
TZID:America/New_York
BEGIN:DAYLIGHT
TZOFFSETFROM:-0500
TZOFFSETTO:-0400
TZNAME:EDT
DTSTART:20240310T070000
END:DAYLIGHT
BEGIN:STANDARD
TZOFFSETFROM:-0400
TZOFFSETTO:-0500
TZNAME:EST
DTSTART:20241103T060000
END:STANDARD
BEGIN:DAYLIGHT
TZOFFSETFROM:-0500
TZOFFSETTO:-0400
TZNAME:EDT
DTSTART:20250309T070000
END:DAYLIGHT
BEGIN:STANDARD
TZOFFSETFROM:-0400
TZOFFSETTO:-0500
TZNAME:EST
DTSTART:20251102T060000
END:STANDARD
BEGIN:DAYLIGHT
TZOFFSETFROM:-0500
TZOFFSETTO:-0400
TZNAME:EDT
DTSTART:20260308T070000
END:DAYLIGHT
BEGIN:STANDARD
TZOFFSETFROM:-0400
TZOFFSETTO:-0500
TZNAME:EST
DTSTART:20261101T060000
END:STANDARD
END:VTIMEZONE
BEGIN:VEVENT
DTSTART;TZID=America/New_York:20250517T090000
DTEND;TZID=America/New_York:20250517T130000
DTSTAMP:20260420T060103
CREATED:20250416T210039Z
LAST-MODIFIED:20250416T210039Z
UID:47683-1747472400-1747486800@www.bmhvt.org
SUMMARY:BMH's Touch a Truck
DESCRIPTION:Touch a Truck is BACK! We are excited to once again host our annual Touch a Truck event on Saturday\, May 17\, 2025\, from 9:00am-1:00pm. This fundraising event brings smiles to the faces of local children while raising charitable dollars to support the healthcare services of Brattleboro Memorial Hospital. \nGear up for a fun-filled family event that gives children an opportunity to explore a wide variety of trucks and vehicles. Spend the day in the driver’s seat playing with buttons and levers\, interacting with the drivers\, digging in a giant mulch pile\, and so much more! \n\nWhere?                                                                                                                 \nBrattleboro Memorial Hospital Parking Lot \n17 Belmont Avenue – Brattleboro\, VT 05301 \n\nHow Much?\n\n$5 per child ages 2 – 12\n$15 for families with more than 3 children\nUnder 2 free\nAges 13+ by donation\n\nTickets sold at the gate \n\nAdditional Activities \n\nScavenger hunt with prizes from the community\nMulch pile with toy trucks for exploration\nInteractive crafts and activities\nAnd MUCH more!\n\n\nTrucks and Sponsors\nIt’s not too late to be a sponsor or a participating vehicle! \nContact the BMH Development Office: development@bmhvt.org • (802) 257-8314
URL:https://www.bmhvt.org/event/bmhs-touch-a-truck/
LOCATION:BMH Parking Lot\, 17 Belmont Avenue\, Brattleboro\, VT\, 05301\, United States
CATEGORIES:Events Calendar,Fundraiser
END:VEVENT
END:VCALENDAR